BEGIN:VCALENDAR
VERSION:2.0
PRODID:icalendar-ruby
CALSCALE:GREGORIAN
METHOD:PUBLISH
BEGIN:VEVENT
DTSTAMP:20260424T044205Z
UID:13-1475163@ihpfellowship.com
DTSTART:20261008T000000Z
DTEND:20261008T013000Z
CLASS:PUBLIC
CREATED:20260423T212546
DESCRIPTION:
LAST-MODIFIED:20260423T212546
LOCATION:IHP Fellowship
SUMMARY:Wednesday Service
URL;VALUE=URI:https://ihpfellowship.com/events/wednesday-service/2026-10-07
ATTACH;FILENAME=IHP Event.png;FMTTYPE=image/png:https://dq5pwpg1q8ru0.cloud
 front.net/2023/07/26/16/00/42/841a410b-43ec-45bb-845b-fb9a50d50d8a/IHP%20E
 vent.png
END:VEVENT
END:VCALENDAR
