BEGIN:VCALENDAR
VERSION:2.0
PRODID:icalendar-ruby
CALSCALE:GREGORIAN
METHOD:PUBLISH
BEGIN:VEVENT
DTSTAMP:20260423T234655Z
UID:13-1474353@ihpfellowship.com
DTSTART:20260917T000000Z
DTEND:20260917T013000Z
CLASS:PUBLIC
CREATED:20260423T183145
DESCRIPTION:
LAST-MODIFIED:20260423T183145
LOCATION:IHP Fellowship
SUMMARY:Wednesday Service
URL;VALUE=URI:https://ihpfellowship.com/events/wednesday-service/2026-09-16
ATTACH;FILENAME=IHP Event.png;FMTTYPE=image/png:https://dq5pwpg1q8ru0.cloud
 front.net/2023/07/26/16/00/42/841a410b-43ec-45bb-845b-fb9a50d50d8a/IHP%20E
 vent.png
END:VEVENT
END:VCALENDAR
