BEGIN:VCALENDAR
VERSION:2.0
PRODID:icalendar-ruby
CALSCALE:GREGORIAN
METHOD:PUBLISH
BEGIN:VEVENT
DTSTAMP:20260421T221108Z
UID:8-1464178@ihpfellowship.com
DTSTART:20260906T150000Z
DTEND:20260906T170000Z
CLASS:PUBLIC
CREATED:20260421T171016
DESCRIPTION:
LAST-MODIFIED:20260421T171016
LOCATION:IHP Fellowship
SUMMARY:Sunday Service
URL;VALUE=URI:https://ihpfellowship.com/events/sunday-service/2026-09-06
ATTACH;FILENAME=3.png;FMTTYPE=image/png:https://dq5pwpg1q8ru0.cloudfront.ne
 t/2023/06/25/19/27/37/e3de3df3-95bf-4c1d-ac63-9952496e7974/3.png
END:VEVENT
END:VCALENDAR
