BEGIN:VCALENDAR
VERSION:2.0
PRODID:icalendar-ruby
CALSCALE:GREGORIAN
METHOD:PUBLISH
BEGIN:VEVENT
DTSTAMP:20260422T013342Z
UID:9-1465151@ihpfellowship.com
DTSTART:20260905T000000Z
DTEND:20260905T030000Z
CLASS:PUBLIC
CREATED:20260421T194853
DESCRIPTION:
LAST-MODIFIED:20260421T194853
LOCATION:IHP Fellowship
SUMMARY:Fresh Fire
URL;VALUE=URI:https://ihpfellowship.com/events/fresh-fire/2026-09-04
ATTACH;FILENAME=FRI - Fresh Fire.png;FMTTYPE=image/png:https://dq5pwpg1q8ru
 0.cloudfront.net/2025/03/04/02/13/31/f85992e7-af8c-4fbf-a57a-3def73bafec0/
 FRI%20-%20Fresh%20Fire.png
END:VEVENT
END:VCALENDAR
