BEGIN:VCALENDAR
VERSION:2.0
PRODID:icalendar-ruby
CALSCALE:GREGORIAN
METHOD:PUBLISH
BEGIN:VEVENT
DTSTAMP:20260422T111822Z
UID:12-1465319@ihpfellowship.com
DTSTART:20261102T000000Z
DTEND:20261102T020000Z
CLASS:PUBLIC
CREATED:20260421T194854
DESCRIPTION:
LAST-MODIFIED:20260421T194854
LOCATION:IHP Fellowship
SUMMARY:Community Prayer
URL;VALUE=URI:https://ihpfellowship.com/events/community-prayer--12/2026-11
 -01
ATTACH;FILENAME=IHP Event.png;FMTTYPE=image/png:https://dq5pwpg1q8ru0.cloud
 front.net/2023/07/22/08/10/44/b9a37b51-5bf4-4ce3-93cf-5b3de05a5849/IHP%20E
 vent.png
END:VEVENT
END:VCALENDAR
